BEGIN:VCALENDAR
VERSION:2.0
METHOD:PUBLISH
BEGIN:VEVENT
DTSTART:20260509T190000Z
DTEND:20260509T203000Z
LOCATION:Ballroom
UID:20260423T132515Z@mysite.com
DTSTAMP:20260423T132515Z
SUMMARY:Rooted in Love: A Succulent Workshop
DESCRIPTION:For details, visit https://tickets.butterflies.org/Selection.aspx?sch=126568
PRIORITY:5
CLASS:PUBLIC
END:VEVENT
END:VCALENDAR