BEGIN:VCALENDAR
VERSION:2.0
METHOD:PUBLISH
BEGIN:VEVENT
DTSTART:20260422T180000Z
DTEND:20260422T190000Z
LOCATION:Facility Wide
UID:20260422T121451Z@mysite.com
DTSTAMP:20260422T121451Z
SUMMARY:General Admission Timed Entry Tickets
DESCRIPTION:For details, visit https://tickets.butterflies.org/Selection.aspx?sch=124318
PRIORITY:5
CLASS:PUBLIC
END:VEVENT
END:VCALENDAR